BEGIN:VCALENDAR
VERSION:2.0
PRODID:-//The City of Slidell, Louisiana - ECPv6.15.20//NONSGML v1.0//EN
CALSCALE:GREGORIAN
METHOD:PUBLISH
X-ORIGINAL-URL:https://myslidell.com
X-WR-CALDESC:Events for The City of Slidell, Louisiana
REFRESH-INTERVAL;VALUE=DURATION:PT1H
X-Robots-Tag:noindex
X-PUBLISHED-TTL:PT1H
BEGIN:VTIMEZONE
TZID:America/Chicago
BEGIN:DAYLIGHT
TZOFFSETFROM:-0600
TZOFFSETTO:-0500
TZNAME:CDT
DTSTART:20220313T080000
END:DAYLIGHT
BEGIN:STANDARD
TZOFFSETFROM:-0500
TZOFFSETTO:-0600
TZNAME:CST
DTSTART:20221106T070000
END:STANDARD
BEGIN:DAYLIGHT
TZOFFSETFROM:-0600
TZOFFSETTO:-0500
TZNAME:CDT
DTSTART:20230312T080000
END:DAYLIGHT
BEGIN:STANDARD
TZOFFSETFROM:-0500
TZOFFSETTO:-0600
TZNAME:CST
DTSTART:20231105T070000
END:STANDARD
BEGIN:DAYLIGHT
TZOFFSETFROM:-0600
TZOFFSETTO:-0500
TZNAME:CDT
DTSTART:20240310T080000
END:DAYLIGHT
BEGIN:STANDARD
TZOFFSETFROM:-0500
TZOFFSETTO:-0600
TZNAME:CST
DTSTART:20241103T070000
END:STANDARD
END:VTIMEZONE
BEGIN:VEVENT
DTSTART;TZID=America/Chicago:20231221T190000
DTEND;TZID=America/Chicago:20231221T200000
DTSTAMP:20260420T060245
CREATED:20230626T165355Z
LAST-MODIFIED:20231215T191027Z
UID:17403-1703185200-1703188800@myslidell.com
SUMMARY:Holiday Concert with the Northshore Community Orchestra
DESCRIPTION:Join Slidell Mayor Greg Cromer for a Holiday Concert with the Northshore Community Orchestra on Thursday\, Dec. 21st at 7 p.m. in the Slidell Municipal Auditorium. Admission is free. \nThe Northshore Community Orchestra is the only symphony orchestra in St. Tammany Parish where both youths and adults can make learning and performing music a lifelong endeavor. The orchestra was established in 1987\, and has operated continuously ever since. The orchestra performs several full orchestra concerts as well as some smaller group ensembles throughout the year\, with genres including classical\, jazz\, pop\, folk\, ethnic\, traditional\, movie themes\, and broadway hits. Each year\, the orchestra typically performs for Slidell’s Patriot Day ceremony and Christmas and spring concerts. \nThe members of the orchestra come from Slidell\, St. Tammany Parish and from surrounding parishes in the Greater New Orleans area and south Mississippi. The members represent a diverse assortment of backgrounds such as students\, medical professionals\, engineers\, skilled tradesmen\, scientists\, homemakers\, members of the military\, educators\, and retirees. Though our student members typically begin with us around late middle school or junior high age\, currently our youngest member is just 9 years old\, and our oldest is in his 80s. Some of the orchestra’s musicians are family members who play together – spouses\, parents\, children\, and siblings. \nThe Slidell Municipal Auditorium is located at 2056 Second Street in Olde Towne Slidell. Doors open at 5:30 p.m. and seating is available on a first-come\, first-served basis. Admission is free\, but a donation to the Northshore Community Orchestra is welcomed.
URL:https://myslidell.com/event/holiday-concert-with-the-northshore-community-orchestra-3/
LOCATION:Slidell Municipal Auditotium\, 2056 Second Street\, Slidell\, LA\, 70458\, United States
CATEGORIES:Slidell City Auditorium
ATTACH;FMTTYPE=image/jpeg:https://myslidell.com/wp-content/uploads/2023/06/holiday-orchestra.jpg
ORGANIZER;CN="Cultural & Public Affairs":MAILTO:acarollo@cityofslidell.org
END:VEVENT
END:VCALENDAR