BEGIN:VCALENDAR
VERSION:2.0
PRODID:-//The City of Slidell, Louisiana - ECPv6.15.20//NONSGML v1.0//EN
CALSCALE:GREGORIAN
METHOD:PUBLISH
X-WR-CALNAME:The City of Slidell, Louisiana
X-ORIGINAL-URL:https://myslidell.com
X-WR-CALDESC:Events for The City of Slidell, Louisiana
REFRESH-INTERVAL;VALUE=DURATION:PT1H
X-Robots-Tag:noindex
X-PUBLISHED-TTL:PT1H
BEGIN:VTIMEZONE
TZID:America/Chicago
BEGIN:DAYLIGHT
TZOFFSETFROM:-0600
TZOFFSETTO:-0500
TZNAME:CDT
DTSTART:20200308T080000
END:DAYLIGHT
BEGIN:STANDARD
TZOFFSETFROM:-0500
TZOFFSETTO:-0600
TZNAME:CST
DTSTART:20201101T070000
END:STANDARD
BEGIN:DAYLIGHT
TZOFFSETFROM:-0600
TZOFFSETTO:-0500
TZNAME:CDT
DTSTART:20210314T080000
END:DAYLIGHT
BEGIN:STANDARD
TZOFFSETFROM:-0500
TZOFFSETTO:-0600
TZNAME:CST
DTSTART:20211107T070000
END:STANDARD
BEGIN:DAYLIGHT
TZOFFSETFROM:-0600
TZOFFSETTO:-0500
TZNAME:CDT
DTSTART:20220313T080000
END:DAYLIGHT
BEGIN:STANDARD
TZOFFSETFROM:-0500
TZOFFSETTO:-0600
TZNAME:CST
DTSTART:20221106T070000
END:STANDARD
END:VTIMEZONE
BEGIN:VEVENT
DTSTART;TZID=America/Chicago:20210517T170000
DTEND;TZID=America/Chicago:20210517T180000
DTSTAMP:20260423T185312
CREATED:20210429T182626Z
LAST-MODIFIED:20210429T191813Z
UID:7668-1621270800-1621274400@myslidell.com
SUMMARY:CDBG Public Hearing
DESCRIPTION:The City of Slidell is requesting public comments and will hold a virtual meeting on the following Community Development Block Grant (CDBG) plans: \n\n2020-2024 Consolidated Plan. This is a five-year plan that identifies community development needs and describes how the City will use CDBG funds to address these needs. The City proposes the following goals: Public Facility Improvements; Foster Coordination with Service Networks; Urgent Needs Public Service Activities; and Urgent Needs Public Facility Improvements.\n2020 Annual Action Plan. Slidell received $177\,781 in CDBG funds for 2020. This plan identifies the specific projects the City will fund with this money. The City proposes to do improvements at Ducksworth Park\, including a new multi-use field\, new walking path\, and new LED lights.\n2021 Annual Action Plan. Slidell received $184\,548 in CDBG funds for 2021. This plan identifies the specific projects the City will fund with this money. The City proposes to install LED lights at Possum Hollow Park.\n\nThe City requests public comments by May 22\, 2021: email cdbg@cityofslidell.org; call 985-646-4320; mail or deliver to CDBG\, c/o Planning Department\, 250 Bouscaren St.\, Ste. 203\, Slidell\, LA 70458; or participate in this virtual meeting. \nClick here for a summary of what is being proposed. \nYou may join the meeting from your computer\, tablet\, or smartphone.\nhttps://www.gotomeet.me/SlidellPlanning/cdbg-public-hearing-20210517 \nYou can also dial in using your phone.\nUnited States: +1 (646) 749-3122\nAccess Code: 933-853-677 \nNew to GoToMeeting? Get the app now and be ready when your first meeting starts:\nhttps://global.gotomeeting.com/install/905017749
URL:https://myslidell.com/event/cdbg-public-hearing-20210517/
LOCATION:LA
CATEGORIES:Planning
ATTACH;FMTTYPE=image/jpeg:https://myslidell.com/wp-content/uploads/2021/01/community-1.jpg
ORGANIZER;CN="Planning Department":MAILTO:Planningdept@cityofslidell.org
END:VEVENT
BEGIN:VEVENT
DTSTART;TZID=America/Chicago:20210517T190000
DTEND;TZID=America/Chicago:20210517T200000
DTSTAMP:20260423T185312
CREATED:20210401T013058Z
LAST-MODIFIED:20210811T182050Z
UID:6366-1621278000-1621281600@myslidell.com
SUMMARY:Planning and Zoning Commissions
DESCRIPTION:Planning Agenda only (pdf; 0.2MB) \nZoning Agenda only (pdf; 0.2MB) \nPlanning Full Agenda Packet (pdf; 1.6MB) \nZoning Full Agenda Packet (pdf; 2.0MB) \nPlanning Minutes (pdf; 0.6MB) \nZoning Minutes (pdf; 0.6MB) \nInformation about the Planning and Zoning Commissions
URL:https://myslidell.com/event/planning-and-zoning-commissions-6/
LOCATION:City Council Chambers\, 2045 Second St\, Slidell\, LA\, 70458\, United States
CATEGORIES:Planning,Planning and Zoning (P&Z)
ATTACH;FMTTYPE=image/jpeg:https://myslidell.com/wp-content/uploads/2021/04/Planning-and-Zoning.jpg
ORGANIZER;CN="Planning Department":MAILTO:Planningdept@cityofslidell.org
END:VEVENT
END:VCALENDAR