BEGIN:VCALENDAR
VERSION:2.0
PRODID:-//The City of Slidell, Louisiana - ECPv6.15.20//NONSGML v1.0//EN
CALSCALE:GREGORIAN
METHOD:PUBLISH
X-WR-CALNAME:The City of Slidell, Louisiana
X-ORIGINAL-URL:https://myslidell.com
X-WR-CALDESC:Events for The City of Slidell, Louisiana
REFRESH-INTERVAL;VALUE=DURATION:PT1H
X-Robots-Tag:noindex
X-PUBLISHED-TTL:PT1H
BEGIN:VTIMEZONE
TZID:America/Chicago
BEGIN:DAYLIGHT
TZOFFSETFROM:-0600
TZOFFSETTO:-0500
TZNAME:CDT
DTSTART:20190310T080000
END:DAYLIGHT
BEGIN:STANDARD
TZOFFSETFROM:-0500
TZOFFSETTO:-0600
TZNAME:CST
DTSTART:20191103T070000
END:STANDARD
BEGIN:DAYLIGHT
TZOFFSETFROM:-0600
TZOFFSETTO:-0500
TZNAME:CDT
DTSTART:20200308T080000
END:DAYLIGHT
BEGIN:STANDARD
TZOFFSETFROM:-0500
TZOFFSETTO:-0600
TZNAME:CST
DTSTART:20201101T070000
END:STANDARD
BEGIN:DAYLIGHT
TZOFFSETFROM:-0600
TZOFFSETTO:-0500
TZNAME:CDT
DTSTART:20210314T080000
END:DAYLIGHT
BEGIN:STANDARD
TZOFFSETFROM:-0500
TZOFFSETTO:-0600
TZNAME:CST
DTSTART:20211107T070000
END:STANDARD
END:VTIMEZONE
BEGIN:VEVENT
DTSTART;TZID=America/Chicago:20201104T170000
DTEND;TZID=America/Chicago:20201104T180000
DTSTAMP:20260424T165104
CREATED:20210401T023540Z
LAST-MODIFIED:20210422T001031Z
UID:6483-1604509200-1604512800@myslidell.com
SUMMARY:Olde Towne Preservation District Commission
DESCRIPTION:Agenda only (pdf; 0.2MB) \nFull Agenda Packet (pdf; 6.5MB) \nMinutes (pdf; 0.2MB) \nInformation about the OTPDC
URL:https://myslidell.com/event/olde-towne-preservation-district-commission-15/
LOCATION:City Hall Meeting Room\, Mayors Building\, First Floor\, 2055 Second St\, Slidell\, LA\, 70459\, United States
CATEGORIES:Historic Preservation,Olde Towne Preservation District Commission (OTPDC),Planning
ORGANIZER;CN="Planning Department":MAILTO:Planningdept@cityofslidell.org
END:VEVENT
END:VCALENDAR