BEGIN:VCALENDAR
VERSION:2.0
PRODID:-//The City of Slidell, Louisiana - ECPv6.15.20//NONSGML v1.0//EN
CALSCALE:GREGORIAN
METHOD:PUBLISH
X-WR-CALNAME:The City of Slidell, Louisiana
X-ORIGINAL-URL:https://myslidell.com
X-WR-CALDESC:Events for The City of Slidell, Louisiana
REFRESH-INTERVAL;VALUE=DURATION:PT1H
X-Robots-Tag:noindex
X-PUBLISHED-TTL:PT1H
BEGIN:VTIMEZONE
TZID:America/Chicago
BEGIN:DAYLIGHT
TZOFFSETFROM:-0600
TZOFFSETTO:-0500
TZNAME:CDT
DTSTART:20190310T080000
END:DAYLIGHT
BEGIN:STANDARD
TZOFFSETFROM:-0500
TZOFFSETTO:-0600
TZNAME:CST
DTSTART:20191103T070000
END:STANDARD
BEGIN:DAYLIGHT
TZOFFSETFROM:-0600
TZOFFSETTO:-0500
TZNAME:CDT
DTSTART:20200308T080000
END:DAYLIGHT
BEGIN:STANDARD
TZOFFSETFROM:-0500
TZOFFSETTO:-0600
TZNAME:CST
DTSTART:20201101T070000
END:STANDARD
BEGIN:DAYLIGHT
TZOFFSETFROM:-0600
TZOFFSETTO:-0500
TZNAME:CDT
DTSTART:20210314T080000
END:DAYLIGHT
BEGIN:STANDARD
TZOFFSETFROM:-0500
TZOFFSETTO:-0600
TZNAME:CST
DTSTART:20211107T070000
END:STANDARD
END:VTIMEZONE
BEGIN:VEVENT
DTSTART;TZID=America/Chicago:20201027T110000
DTEND;TZID=America/Chicago:20201027T130000
DTSTAMP:20260424T182252
CREATED:20210401T023646Z
LAST-MODIFIED:20210422T002720Z
UID:6501-1603796400-1603803600@myslidell.com
SUMMARY:Slidell Development-Ready Community Town Hall Meeting
DESCRIPTION:St. Tammany Corporation will host Slidell Development-Ready Community Town Hall Meetings at the Slidell Municipal Auditorium. Two town hall meetings will be held on Thursday\, October 22 from 9:00 to 11:00 a.m. and again on Tuesday\, Oct. 27 from 11:00 a.m to 1:00 p.m. The public is invited to attend. \n\nThe Slidell Municipal Auditorium is located at 2056 Second Street in Olde Towne Slidell. \n\nAs the lead economic development organization for the parish\, St. Tammany Corporation’s primary purpose is to create an environment in our community where businesses\, families\, and talent have an opportunity to thrive. In alignment with these priorities\, Slidell Mayor Greg Cromer has asked St. Tammany Corporation to update Slidell’s strategic economic development plan on his behalf as part of the Louisiana Development Ready Communities (LDRC) Program. The support\, partnership\, and proactivity provided by the mayor is a major asset to our work in economic development. \nThe LDRC program “encourages and supports selected Louisiana communities to become development ready\, competitive\, and ‘open for business’ by creating and implementing a strategic community and economic development plan.” In 2009 and 2010\, 19 communities\, including Slidell\, participated in the LDRC Pilot Program\, and St. Tammany Corporation is excited to now update the city’s original plan to work toward becoming the first parish-wide Development Ready Community in the state. THRIVE2023\, St. Tammany’s comprehensive five-year strategic economic development plan\, will serve as the overarching LDRC plan for the community\, and Slidell’s LDRC plan will complement those parish-wide goals at a local level. \nTo update Slidell’s plan\, St. Tammany Corporation will be hosting a series of town hall meetings open to the public to provide input in developing strategies to address education\, workforce development\, infrastructure\, leadership\, and marketing/communications specific to Slidell. \nThe public can also stop by the City Hall Meeting Room from 9:00 a.m. – 3:00 p.m. on Friday\, October 30\, for a come-and-go discussion and public input opportunity for anyone unable to make the town hall meetings. The meeting room at 2055 Second Street\, on the first floor of City Hall. \nThe public is also encouraged to complete the community and business survey to share their thoughts about living and/or operating a business in Slidell at https://www.cognitoforms.com/LouisianaEconomicDevelopment1/CityOfSlidellCommunityAndBusinessSurvey \nFor more information\, please visit St. Tammany Corporations website at www.sttammanycorp.org or contact Elizabeth Lee at elee@sttammanycorp.org or call (985) 590-0487.
URL:https://myslidell.com/event/slidell-development-ready-community-town-hall-meeting-2/
LOCATION:Slidell Municipal Auditotium\, 2056 Second Street\, Slidell\, LA\, 70458\, United States
CATEGORIES:Planning
END:VEVENT
END:VCALENDAR