BEGIN:VCALENDAR
VERSION:2.0
PRODID:-//The City of Slidell, Louisiana - ECPv6.15.20//NONSGML v1.0//EN
CALSCALE:GREGORIAN
METHOD:PUBLISH
X-ORIGINAL-URL:https://myslidell.com
X-WR-CALDESC:Events for The City of Slidell, Louisiana
REFRESH-INTERVAL;VALUE=DURATION:PT1H
X-Robots-Tag:noindex
X-PUBLISHED-TTL:PT1H
BEGIN:VTIMEZONE
TZID:America/Chicago
BEGIN:DAYLIGHT
TZOFFSETFROM:-0600
TZOFFSETTO:-0500
TZNAME:CDT
DTSTART:20190310T080000
END:DAYLIGHT
BEGIN:STANDARD
TZOFFSETFROM:-0500
TZOFFSETTO:-0600
TZNAME:CST
DTSTART:20191103T070000
END:STANDARD
BEGIN:DAYLIGHT
TZOFFSETFROM:-0600
TZOFFSETTO:-0500
TZNAME:CDT
DTSTART:20200308T080000
END:DAYLIGHT
BEGIN:STANDARD
TZOFFSETFROM:-0500
TZOFFSETTO:-0600
TZNAME:CST
DTSTART:20201101T070000
END:STANDARD
BEGIN:DAYLIGHT
TZOFFSETFROM:-0600
TZOFFSETTO:-0500
TZNAME:CDT
DTSTART:20210314T080000
END:DAYLIGHT
BEGIN:STANDARD
TZOFFSETFROM:-0500
TZOFFSETTO:-0600
TZNAME:CST
DTSTART:20211107T070000
END:STANDARD
END:VTIMEZONE
BEGIN:VEVENT
DTSTART;TZID=America/Chicago:20200127T190000
DTEND;TZID=America/Chicago:20200127T200000
DTSTAMP:20260425T092011
CREATED:20200730T044814Z
LAST-MODIFIED:20210422T002217Z
UID:4079-1580151600-1580155200@myslidell.com
SUMMARY:Planning and Zoning Commissions
DESCRIPTION:Information about the Planning and Zoning Commissions \n  \nPlanning Commission Agenda January 27\, 2020 \nPlanning Commission Minutes January 27\, 2020 \n\n	\n	\nZoning Commission Agenda January 27\, 2020 \nZoning Commission Minutes January 27\, 2020
URL:https://myslidell.com/event/planning-and-zoning-commissions/
LOCATION:City Council Chambers\, 2045 Second St\, Slidell\, LA\, 70458\, United States
CATEGORIES:Planning,Planning and Zoning (P&Z)
ATTACH;FMTTYPE=image/jpeg:https://myslidell.com/wp-content/uploads/2021/04/Planning-and-Zoning.jpg
ORGANIZER;CN="Planning Department":MAILTO:Planningdept@cityofslidell.org
END:VEVENT
END:VCALENDAR