BEGIN:VCALENDAR
VERSION:2.0
PRODID:-//The City of Slidell, Louisiana - ECPv6.15.20//NONSGML v1.0//EN
CALSCALE:GREGORIAN
METHOD:PUBLISH
X-WR-CALNAME:The City of Slidell, Louisiana
X-ORIGINAL-URL:https://myslidell.com
X-WR-CALDESC:Events for The City of Slidell, Louisiana
REFRESH-INTERVAL;VALUE=DURATION:PT1H
X-Robots-Tag:noindex
X-PUBLISHED-TTL:PT1H
BEGIN:VTIMEZONE
TZID:America/Chicago
BEGIN:DAYLIGHT
TZOFFSETFROM:-0600
TZOFFSETTO:-0500
TZNAME:CDT
DTSTART:20220313T080000
END:DAYLIGHT
BEGIN:STANDARD
TZOFFSETFROM:-0500
TZOFFSETTO:-0600
TZNAME:CST
DTSTART:20221106T070000
END:STANDARD
BEGIN:DAYLIGHT
TZOFFSETFROM:-0600
TZOFFSETTO:-0500
TZNAME:CDT
DTSTART:20230312T080000
END:DAYLIGHT
BEGIN:STANDARD
TZOFFSETFROM:-0500
TZOFFSETTO:-0600
TZNAME:CST
DTSTART:20231105T070000
END:STANDARD
BEGIN:DAYLIGHT
TZOFFSETFROM:-0600
TZOFFSETTO:-0500
TZNAME:CDT
DTSTART:20240310T080000
END:DAYLIGHT
BEGIN:STANDARD
TZOFFSETFROM:-0500
TZOFFSETTO:-0600
TZNAME:CST
DTSTART:20241103T070000
END:STANDARD
END:VTIMEZONE
BEGIN:VEVENT
DTSTART;TZID=America/Chicago:20230712T170000
DTEND;TZID=America/Chicago:20230712T190000
DTSTAMP:20260421T103819
CREATED:20230706T221337Z
LAST-MODIFIED:20230706T221338Z
UID:17485-1689181200-1689188400@myslidell.com
SUMMARY:Olde Towne Preservation District Commission
DESCRIPTION:Agenda Packet (PDF) \nInformation about the Olde Towne Preservation District Commission \n  \n 
URL:https://myslidell.com/event/olde-towne-preservation-district-commission-22/
LOCATION:City Council Chambers\, 2045 Second St\, Slidell\, LA\, 70458\, United States
CATEGORIES:Olde Towne Preservation District Commission (OTPDC),Planning
ATTACH;FMTTYPE=image/jpeg:https://myslidell.com/wp-content/uploads/2021/04/Olde-Towne-Preservation-District-Commission.jpg
ORGANIZER;CN="Planning Department":MAILTO:Planningdept@cityofslidell.org
END:VEVENT
BEGIN:VEVENT
DTSTART;TZID=America/Chicago:20230717T190000
DTEND;TZID=America/Chicago:20230717T210000
DTSTAMP:20260421T103819
CREATED:20230708T200729Z
LAST-MODIFIED:20230708T200730Z
UID:17491-1689620400-1689627600@myslidell.com
SUMMARY:Planning and Zoning Commissions
DESCRIPTION:Planning Agenda (PDF) \nZoning Agenda (PDF) \nInformation about the Planning and Zoning Commissions
URL:https://myslidell.com/event/planning-and-zoning-commissions-30/
LOCATION:City Council Chambers\, 2045 Second St\, Slidell\, LA\, 70458\, United States
CATEGORIES:Planning,Planning and Zoning (P&Z)
ATTACH;FMTTYPE=image/jpeg:https://myslidell.com/wp-content/uploads/2021/04/Planning-and-Zoning.jpg
ORGANIZER;CN="Planning Department":MAILTO:Planningdept@cityofslidell.org
END:VEVENT
END:VCALENDAR