BEGIN:VCALENDAR
VERSION:2.0
PRODID:-//The City of Slidell, Louisiana - ECPv6.15.20//NONSGML v1.0//EN
CALSCALE:GREGORIAN
METHOD:PUBLISH
X-WR-CALNAME:The City of Slidell, Louisiana
X-ORIGINAL-URL:https://myslidell.com
X-WR-CALDESC:Events for The City of Slidell, Louisiana
REFRESH-INTERVAL;VALUE=DURATION:PT1H
X-Robots-Tag:noindex
X-PUBLISHED-TTL:PT1H
BEGIN:VTIMEZONE
TZID:America/Chicago
BEGIN:DAYLIGHT
TZOFFSETFROM:-0600
TZOFFSETTO:-0500
TZNAME:CDT
DTSTART:20200308T080000
END:DAYLIGHT
BEGIN:STANDARD
TZOFFSETFROM:-0500
TZOFFSETTO:-0600
TZNAME:CST
DTSTART:20201101T070000
END:STANDARD
BEGIN:DAYLIGHT
TZOFFSETFROM:-0600
TZOFFSETTO:-0500
TZNAME:CDT
DTSTART:20210314T080000
END:DAYLIGHT
BEGIN:STANDARD
TZOFFSETFROM:-0500
TZOFFSETTO:-0600
TZNAME:CST
DTSTART:20211107T070000
END:STANDARD
BEGIN:DAYLIGHT
TZOFFSETFROM:-0600
TZOFFSETTO:-0500
TZNAME:CDT
DTSTART:20220313T080000
END:DAYLIGHT
BEGIN:STANDARD
TZOFFSETFROM:-0500
TZOFFSETTO:-0600
TZNAME:CST
DTSTART:20221106T070000
END:STANDARD
END:VTIMEZONE
BEGIN:VEVENT
DTSTART;TZID=America/Chicago:20211202T190000
DTEND;TZID=America/Chicago:20211202T200000
DTSTAMP:20260421T032115
CREATED:20210401T015502Z
LAST-MODIFIED:20211116T202900Z
UID:6409-1638471600-1638475200@myslidell.com
SUMMARY:Board of Zoning Adjustment
DESCRIPTION:Agenda only (pdf; 0.2 MB) \nFull Agenda Packet (pdf; 3.0 MB) \nLocation: Council Chambers\, 2045 2nd St\, Slidell\, LA \nFor questions or to provide public comment before the meeting\, email planningdept@cityofslidell.org or call (985) 646-4320 (M-F 8am to 4:30pm) \nInformation about the Board of Zoning Adjustment
URL:https://myslidell.com/event/bza20211202/
LOCATION:City Council Chambers\, 2045 Second St\, Slidell\, LA\, 70458\, United States
CATEGORIES:Board of Zoning Adjustment (BZA),Planning
ATTACH;FMTTYPE=image/png:https://myslidell.com/wp-content/uploads/2021/04/Board-of-Zoning-1-1.png
ORGANIZER;CN="Planning Department":MAILTO:Planningdept@cityofslidell.org
END:VEVENT
BEGIN:VEVENT
DTSTART;TZID=America/Chicago:20211208T170000
DTEND;TZID=America/Chicago:20211208T180000
DTSTAMP:20260421T032115
CREATED:20210401T015503Z
LAST-MODIFIED:20211201T165631Z
UID:6411-1638982800-1638986400@myslidell.com
SUMMARY:Olde Towne Preservation District Commission
DESCRIPTION:Agenda only (pdf; 0.x MB) \nFull Agenda Packet (pdf; x.x MB) \nLocation: Council Chambers\, 2045 2nd St\, Slidell\, LA \nFor questions or to provide public comment before the meeting\, email planningdept@cityofslidell.org or call (985) 646-4320 (M-F 8am to 4:30pm) \n  \nInformation about the OTPDC
URL:https://myslidell.com/event/otpdc20211208/
LOCATION:City Council Chambers\, 2045 Second St\, Slidell\, LA\, 70458\, United States
CATEGORIES:Historic Preservation,Olde Towne Preservation District Commission (OTPDC),Planning
ATTACH;FMTTYPE=image/jpeg:https://myslidell.com/wp-content/uploads/2021/04/Olde-Towne-Preservation-District-Commission.jpg
ORGANIZER;CN="Planning Department":MAILTO:Planningdept@cityofslidell.org
END:VEVENT
BEGIN:VEVENT
DTSTART;TZID=America/Chicago:20211213T190000
DTEND;TZID=America/Chicago:20211213T200000
DTSTAMP:20260421T032115
CREATED:20210401T015502Z
LAST-MODIFIED:20211130T201140Z
UID:6410-1639422000-1639425600@myslidell.com
SUMMARY:Planning and Zoning Commissions
DESCRIPTION:Planning Agenda only (pdf; 0.2 MB) \nZoning Agenda only (pdf; 0.2 MB) \nPlanning Full Agenda Packet (pdf; 4.8 MB) \nZoning Full Agenda Packet (pdf; 5.6 MB) \nLocation: Council Chambers\, 2045 2nd St\, Slidell\, LA \nFor questions or to provide public comment before the meeting\, email planningdept@cityofslidell.org or call (985) 646-4320 (M-F 8am to 4:30pm) \n  \nInformation about the Planning and Zoning Commissions
URL:https://myslidell.com/event/pz20211213/
LOCATION:City Council Chambers\, 2045 Second St\, Slidell\, LA\, 70458\, United States
CATEGORIES:Planning,Planning and Zoning (P&Z)
ATTACH;FMTTYPE=image/jpeg:https://myslidell.com/wp-content/uploads/2021/04/Planning-and-Zoning.jpg
ORGANIZER;CN="Planning Department":MAILTO:Planningdept@cityofslidell.org
END:VEVENT
END:VCALENDAR