BEGIN:VCALENDAR
VERSION:2.0
PRODID:-//The City of Slidell, Louisiana - ECPv6.15.20//NONSGML v1.0//EN
CALSCALE:GREGORIAN
METHOD:PUBLISH
X-ORIGINAL-URL:https://myslidell.com
X-WR-CALDESC:Events for The City of Slidell, Louisiana
REFRESH-INTERVAL;VALUE=DURATION:PT1H
X-Robots-Tag:noindex
X-PUBLISHED-TTL:PT1H
BEGIN:VTIMEZONE
TZID:America/Chicago
BEGIN:DAYLIGHT
TZOFFSETFROM:-0600
TZOFFSETTO:-0500
TZNAME:CDT
DTSTART:20200308T080000
END:DAYLIGHT
BEGIN:STANDARD
TZOFFSETFROM:-0500
TZOFFSETTO:-0600
TZNAME:CST
DTSTART:20201101T070000
END:STANDARD
BEGIN:DAYLIGHT
TZOFFSETFROM:-0600
TZOFFSETTO:-0500
TZNAME:CDT
DTSTART:20210314T080000
END:DAYLIGHT
BEGIN:STANDARD
TZOFFSETFROM:-0500
TZOFFSETTO:-0600
TZNAME:CST
DTSTART:20211107T070000
END:STANDARD
BEGIN:DAYLIGHT
TZOFFSETFROM:-0600
TZOFFSETTO:-0500
TZNAME:CDT
DTSTART:20220313T080000
END:DAYLIGHT
BEGIN:STANDARD
TZOFFSETFROM:-0500
TZOFFSETTO:-0600
TZNAME:CST
DTSTART:20221106T070000
END:STANDARD
END:VTIMEZONE
BEGIN:VEVENT
DTSTART;TZID=America/Chicago:20210902T190000
DTEND;TZID=America/Chicago:20210902T200000
DTSTAMP:20260423T111655
CREATED:20210401T014429Z
LAST-MODIFIED:20210806T153743Z
UID:6393-1630609200-1630612800@myslidell.com
SUMMARY:CANCELED Board of Zoning Adjustment
DESCRIPTION:Canceled because there were no applications \nInformation about the Board of Zoning Adjustment
URL:https://myslidell.com/event/board-of-zoning-adjustment-7/
LOCATION:LA
CATEGORIES:Board of Zoning Adjustment (BZA),Planning
ORGANIZER;CN="Planning Department":MAILTO:Planningdept@cityofslidell.org
END:VEVENT
BEGIN:VEVENT
DTSTART;TZID=America/Chicago:20210908T170000
DTEND;TZID=America/Chicago:20210908T180000
DTSTAMP:20260423T111655
CREATED:20210401T014430Z
LAST-MODIFIED:20210826T160914Z
UID:6396-1631120400-1631124000@myslidell.com
SUMMARY:Olde Towne Preservation District Commission
DESCRIPTION:Agenda only (pdf; 0.2MB) \nFull Agenda Packet (pdf; 1.6MB) \nLocation: Council Chambers\, 2045 2nd St\, Slidell\, LA \nFor questions or to provide public comment before the meeting\, email planningdept@cityofslidell.org or call (985) 646-4320 (M-F 8am to 4pm) \nInformation about the OTPDC
URL:https://myslidell.com/event/olde-towne-preservation-district-commission-10/
LOCATION:City Council Chambers\, 2045 Second St\, Slidell\, LA\, 70458\, United States
CATEGORIES:Historic Preservation,Olde Towne Preservation District Commission (OTPDC),Planning
ATTACH;FMTTYPE=image/jpeg:https://myslidell.com/wp-content/uploads/2021/04/Olde-Towne-Preservation-District-Commission.jpg
ORGANIZER;CN="Planning Department":MAILTO:Planningdept@cityofslidell.org
END:VEVENT
BEGIN:VEVENT
DTSTART;TZID=America/Chicago:20210920T190000
DTEND;TZID=America/Chicago:20210920T200000
DTSTAMP:20260423T111655
CREATED:20210401T014429Z
LAST-MODIFIED:20210909T213517Z
UID:6394-1632164400-1632168000@myslidell.com
SUMMARY:Planning and Zoning Commissions
DESCRIPTION:Planning Agenda only (pdf; 0.2MB) \nZoning Agenda only (pdf; 0.2MB) \nPlanning Full Agenda Packet (pdf; 1.8MB) \nZoning Full Agenda Packet (pdf; 2.5MB) \nLocation: Council Chambers\, 2045 2nd St\, Slidell\, LA \nFor questions or to provide public comment before the meeting\, email planningdept@cityofslidell.org or call (985) 646-4320 (M-F 8am to 4pm) \nInformation about the Planning and Zoning Commissions
URL:https://myslidell.com/event/planning-and-zoning-commissions-10/
LOCATION:City Council Chambers\, 2045 Second St\, Slidell\, LA\, 70458\, United States
CATEGORIES:Planning,Planning and Zoning (P&Z)
ATTACH;FMTTYPE=image/jpeg:https://myslidell.com/wp-content/uploads/2021/04/Planning-and-Zoning.jpg
ORGANIZER;CN="Planning Department":MAILTO:Planningdept@cityofslidell.org
END:VEVENT
END:VCALENDAR