BEGIN:VCALENDAR
VERSION:2.0
PRODID:-//The City of Slidell, Louisiana - ECPv6.15.20//NONSGML v1.0//EN
CALSCALE:GREGORIAN
METHOD:PUBLISH
X-WR-CALNAME:The City of Slidell, Louisiana
X-ORIGINAL-URL:https://myslidell.com
X-WR-CALDESC:Events for The City of Slidell, Louisiana
REFRESH-INTERVAL;VALUE=DURATION:PT1H
X-Robots-Tag:noindex
X-PUBLISHED-TTL:PT1H
BEGIN:VTIMEZONE
TZID:America/Chicago
BEGIN:DAYLIGHT
TZOFFSETFROM:-0600
TZOFFSETTO:-0500
TZNAME:CDT
DTSTART:20190310T080000
END:DAYLIGHT
BEGIN:STANDARD
TZOFFSETFROM:-0500
TZOFFSETTO:-0600
TZNAME:CST
DTSTART:20191103T070000
END:STANDARD
BEGIN:DAYLIGHT
TZOFFSETFROM:-0600
TZOFFSETTO:-0500
TZNAME:CDT
DTSTART:20200308T080000
END:DAYLIGHT
BEGIN:STANDARD
TZOFFSETFROM:-0500
TZOFFSETTO:-0600
TZNAME:CST
DTSTART:20201101T070000
END:STANDARD
BEGIN:DAYLIGHT
TZOFFSETFROM:-0600
TZOFFSETTO:-0500
TZNAME:CDT
DTSTART:20210314T080000
END:DAYLIGHT
BEGIN:STANDARD
TZOFFSETFROM:-0500
TZOFFSETTO:-0600
TZNAME:CST
DTSTART:20211107T070000
END:STANDARD
END:VTIMEZONE
BEGIN:VEVENT
DTSTART;TZID=America/Chicago:20200902T170000
DTEND;TZID=America/Chicago:20200902T180000
DTSTAMP:20260424T182122
CREATED:20210401T023850Z
LAST-MODIFIED:20210422T001133Z
UID:6513-1599066000-1599069600@myslidell.com
SUMMARY:Olde Towne Preservation District Commission
DESCRIPTION:OTPDC Agenda Packet for September 2\, 2020 \nOTPDC Minutes for September 2\, 2020 \nInformation about the OTPDC
URL:https://myslidell.com/event/olde-towne-preservation-district-commission-17/
LOCATION:City Hall Meeting Room\, Mayors Building\, First Floor\, 2055 Second St\, Slidell\, LA\, 70459\, United States
CATEGORIES:Historic Preservation,Olde Towne Preservation District Commission (OTPDC),Planning
ORGANIZER;CN="Planning Department":MAILTO:Planningdept@cityofslidell.org
END:VEVENT
BEGIN:VEVENT
DTSTART;TZID=America/Chicago:20200903T190000
DTEND;TZID=America/Chicago:20200903T200000
DTSTAMP:20260424T182122
CREATED:20210401T023850Z
LAST-MODIFIED:20210422T001138Z
UID:6514-1599159600-1599163200@myslidell.com
SUMMARY:Board of Zoning Adjustment
DESCRIPTION:BZA Agenda Packet for September 3\, 2020 \nBZA Minutes for September 3\, 2020 \nInformation about the Board of Zoning Adjustment
URL:https://myslidell.com/event/board-of-zoning-adjustment-13/
LOCATION:City Council Chambers\, 2045 Second St\, Slidell\, LA\, 70458\, United States
CATEGORIES:Board of Zoning Adjustment (BZA),Planning
ORGANIZER;CN="Planning Department":MAILTO:Planningdept@cityofslidell.org
END:VEVENT
BEGIN:VEVENT
DTSTART;TZID=America/Chicago:20200917T150000
DTEND;TZID=America/Chicago:20200917T160000
DTSTAMP:20260424T182122
CREATED:20210401T023850Z
LAST-MODIFIED:20210422T001150Z
UID:6516-1600354800-1600358400@myslidell.com
SUMMARY:Olde Towne Preservation District Commission Special Meeting
DESCRIPTION:OTPDC Agenda for September 17\, 2020 \nOTPDC Minutes for September 17\, 2020 \nInformation about the OTPDC
URL:https://myslidell.com/event/olde-towne-preservation-district-commission-special-meeting/
LOCATION:City Hall Meeting Room\, Mayors Building\, First Floor\, 2055 Second St\, Slidell\, LA\, 70459\, United States
CATEGORIES:Historic Preservation,Olde Towne Preservation District Commission (OTPDC),Planning
END:VEVENT
BEGIN:VEVENT
DTSTART;TZID=America/Chicago:20200921T190000
DTEND;TZID=America/Chicago:20200921T200000
DTSTAMP:20260424T182122
CREATED:20210401T023850Z
LAST-MODIFIED:20210422T001202Z
UID:6517-1600714800-1600718400@myslidell.com
SUMMARY:Planning and Zoning Commissions
DESCRIPTION:Information about the Planning and Zoning Commissions \nPlanning Commission Agenda Packet and Minutes Packet for September 21\, 2020 \n\n	\n	\nZoning Commission Agenda Packet and Minutes Packet for September 21\, 2020 \n\n	\n	\n 
URL:https://myslidell.com/event/planning-and-zoning-commissions-17/
LOCATION:City Council Chambers\, 2045 Second St\, Slidell\, LA\, 70458\, United States
CATEGORIES:Planning,Planning and Zoning (P&Z)
ATTACH;FMTTYPE=image/jpeg:https://myslidell.com/wp-content/uploads/2021/04/Planning-and-Zoning.jpg
ORGANIZER;CN="Planning Department":MAILTO:Planningdept@cityofslidell.org
END:VEVENT
END:VCALENDAR