BEGIN:VCALENDAR
VERSION:2.0
PRODID:-//The City of Slidell, Louisiana - ECPv6.15.20//NONSGML v1.0//EN
CALSCALE:GREGORIAN
METHOD:PUBLISH
X-WR-CALNAME:The City of Slidell, Louisiana
X-ORIGINAL-URL:http://myslidell.com
X-WR-CALDESC:Events for The City of Slidell, Louisiana
REFRESH-INTERVAL;VALUE=DURATION:PT1H
X-Robots-Tag:noindex
X-PUBLISHED-TTL:PT1H
BEGIN:VTIMEZONE
TZID:America/Chicago
BEGIN:DAYLIGHT
TZOFFSETFROM:-0600
TZOFFSETTO:-0500
TZNAME:CDT
DTSTART:20240310T080000
END:DAYLIGHT
BEGIN:STANDARD
TZOFFSETFROM:-0500
TZOFFSETTO:-0600
TZNAME:CST
DTSTART:20241103T070000
END:STANDARD
BEGIN:DAYLIGHT
TZOFFSETFROM:-0600
TZOFFSETTO:-0500
TZNAME:CDT
DTSTART:20250309T080000
END:DAYLIGHT
BEGIN:STANDARD
TZOFFSETFROM:-0500
TZOFFSETTO:-0600
TZNAME:CST
DTSTART:20251102T070000
END:STANDARD
BEGIN:DAYLIGHT
TZOFFSETFROM:-0600
TZOFFSETTO:-0500
TZNAME:CDT
DTSTART:20260308T080000
END:DAYLIGHT
BEGIN:STANDARD
TZOFFSETFROM:-0500
TZOFFSETTO:-0600
TZNAME:CST
DTSTART:20261101T070000
END:STANDARD
END:VTIMEZONE
BEGIN:VEVENT
DTSTART;TZID=America/Chicago:20250501T120000
DTEND;TZID=America/Chicago:20250501T130000
DTSTAMP:20260423T091423
CREATED:20250424T165741Z
LAST-MODIFIED:20250424T165741Z
UID:22198-1746100800-1746104400@myslidell.com
SUMMARY:National Day of Prayer Observance
DESCRIPTION:Slidell Mayor Bill Borchert\, the Slidell Ministers’ Association\, and the Ministerial Alliance of Greater St. Tammany invite all citizens to attend Slidell’s 34th annual observance of the National Day of Prayer. The event will be held on Thursday\, May 1\, 2025\, at 12 p.m. at Heritage Park. \n“Join us for prayer and intercession for the healing of our nation\,” said Mayor Borchert. “Local pastors and community leaders will lead us in prayer for our city\, state and nation. We will be adding our prayers to tens of thousands of believers across the nation.” \nThe National Day of Prayer\, established by Congress in 1952 and signed into law by President Harry S. Truman\, is observed annually on the first Thursday of May. This nationwide observance invites people of all faiths to pray for the nation. The observance reflects America’s heritage of prayer and reverence for God\, dating back to the country’s founding. \nThis community tradition brings together residents from all walks of life in a unified moment of reflection and prayer. Local religious and community leaders will guide attendees in prayers focusing on various aspects of community and national life. The event is free and open to the public. \nFor more information\, please contact the Slidell Ministers’ Association at slidellministersassociation@gmail.com.
URL:http://myslidell.com/event/national-day-of-prayer-observance/
LOCATION:Heritage Park\, 1701 Bayou Lane\, Slidell\, LA\, 70458\, United States
CATEGORIES:National Day of Prayer
ATTACH;FMTTYPE=image/jpeg:http://myslidell.com/wp-content/uploads/2025/04/National-Day-of-Prayer.jpg
END:VEVENT
END:VCALENDAR