BEGIN:VCALENDAR
VERSION:2.0
PRODID:-//The City of Slidell, Louisiana - ECPv6.15.20//NONSGML v1.0//EN
CALSCALE:GREGORIAN
METHOD:PUBLISH
X-WR-CALNAME:The City of Slidell, Louisiana
X-ORIGINAL-URL:http://myslidell.com
X-WR-CALDESC:Events for The City of Slidell, Louisiana
REFRESH-INTERVAL;VALUE=DURATION:PT1H
X-Robots-Tag:noindex
X-PUBLISHED-TTL:PT1H
BEGIN:VTIMEZONE
TZID:America/Chicago
BEGIN:DAYLIGHT
TZOFFSETFROM:-0600
TZOFFSETTO:-0500
TZNAME:CDT
DTSTART:20240310T080000
END:DAYLIGHT
BEGIN:STANDARD
TZOFFSETFROM:-0500
TZOFFSETTO:-0600
TZNAME:CST
DTSTART:20241103T070000
END:STANDARD
BEGIN:DAYLIGHT
TZOFFSETFROM:-0600
TZOFFSETTO:-0500
TZNAME:CDT
DTSTART:20250309T080000
END:DAYLIGHT
BEGIN:STANDARD
TZOFFSETFROM:-0500
TZOFFSETTO:-0600
TZNAME:CST
DTSTART:20251102T070000
END:STANDARD
BEGIN:DAYLIGHT
TZOFFSETFROM:-0600
TZOFFSETTO:-0500
TZNAME:CDT
DTSTART:20260308T080000
END:DAYLIGHT
BEGIN:STANDARD
TZOFFSETFROM:-0500
TZOFFSETTO:-0600
TZNAME:CST
DTSTART:20261101T070000
END:STANDARD
END:VTIMEZONE
BEGIN:VEVENT
DTSTART;TZID=America/Chicago:20250403T183000
DTEND;TZID=America/Chicago:20250403T213000
DTSTAMP:20260420T032916
CREATED:20250205T173557Z
LAST-MODIFIED:20250306T212545Z
UID:21404-1743705000-1743715800@myslidell.com
SUMMARY:Slidell Toastmasters Club Meeting
DESCRIPTION:The Slidell Toastmasters Club will meet in the City Hall Meeting Room\, First Floor\, 2055 Second Street from 6:30-9:30 pm.
URL:http://myslidell.com/event/slidell-toastmasters-club-meeting-5/
LOCATION:Slidell Municipal Auditorium Meeting Room\, 2065 Second Street\, Slidell\, 70458\, United States
CATEGORIES:Slidell City Auditorium
ATTACH;FMTTYPE=image/jpeg:http://myslidell.com/wp-content/uploads/2025/02/toastmasters-logo.jpg
END:VEVENT
BEGIN:VEVENT
DTSTART;TZID=America/Chicago:20250407T180000
DTEND;TZID=America/Chicago:20250407T190000
DTSTAMP:20260420T032916
CREATED:20250205T165950Z
LAST-MODIFIED:20250306T204003Z
UID:21360-1744048800-1744052400@myslidell.com
SUMMARY:Compassionate Friends of the Northshore Bereavement Group
DESCRIPTION:Compassionate Friends of the Northshore Bereavement Group will meet in the City Hall Meeting Room\, First Floor\, 2055 Second Street from 6-7 pm.
URL:http://myslidell.com/event/compassionate-friends-of-the-northshore-bereavement-group-2/
LOCATION:City Hall Meeting Room\, Mayors Building\, First Floor\, 2055 Second St\, Slidell\, LA\, 70459\, United States
CATEGORIES:Slidell City Auditorium
ATTACH;FMTTYPE=image/png:http://myslidell.com/wp-content/uploads/2025/02/2016-General-TCF-375-x-225-logo-1-e1738774712669.png
END:VEVENT
BEGIN:VEVENT
DTSTART;TZID=America/Chicago:20250416T180000
DTEND;TZID=America/Chicago:20250416T190000
DTSTAMP:20260420T032916
CREATED:20250210T204318Z
LAST-MODIFIED:20250306T213000Z
UID:21587-1744826400-1744830000@myslidell.com
SUMMARY:St. Tammany Levee\, Drainage and Conservation District Meeting
DESCRIPTION:The St. Tammany Levee\, Drainage and Conservation District Board will meet at the Slidell Municipal Auditorium\, 2056 Second Street at 6 pm.
URL:http://myslidell.com/event/st-tammany-levee-drainage-and-conservation-district-meeting-3/
LOCATION:Slidell Municipal Auditotium\, 2056 Second Street\, Slidell\, LA\, 70458\, United States
CATEGORIES:Slidell City Auditorium
ATTACH;FMTTYPE=image/jpeg:http://myslidell.com/wp-content/uploads/2025/02/2016-levee-district-logo.jpg
END:VEVENT
BEGIN:VEVENT
DTSTART;TZID=America/Chicago:20250417T183000
DTEND;TZID=America/Chicago:20250417T213000
DTSTAMP:20260420T032916
CREATED:20250205T173714Z
LAST-MODIFIED:20250306T212526Z
UID:21407-1744914600-1744925400@myslidell.com
SUMMARY:Slidell Toastmasters Club Meeting
DESCRIPTION:The Slidell Toastmasters Club will meet in the City Hall Meeting Room\, First Floor\, 2055 Second Street from 6:30-9:30 pm.
URL:http://myslidell.com/event/slidell-toastmasters-club-meeting-6/
LOCATION:City Hall Meeting Room\, Mayors Building\, First Floor\, 2055 Second St\, Slidell\, LA\, 70459\, United States
CATEGORIES:Slidell City Auditorium
ATTACH;FMTTYPE=image/jpeg:http://myslidell.com/wp-content/uploads/2025/02/toastmasters-logo.jpg
END:VEVENT
BEGIN:VEVENT
DTSTART;TZID=America/Chicago:20250422T180000
DTEND;TZID=America/Chicago:20250422T210000
DTSTAMP:20260420T032916
CREATED:20250210T194350Z
LAST-MODIFIED:20250408T143429Z
UID:21557-1745344800-1745355600@myslidell.com
SUMMARY:Ozone Music Education Foundation Songwriter Circle Session
DESCRIPTION:Join the Slidell Songwriter Circle in the City Hall Meeting Room\, First Floor\, 2055 Second Street from 6-9 pm.
URL:http://myslidell.com/event/ozone-music-education-foundation-songwriter-circle-session-3/
LOCATION:City Hall Meeting Room\, Mayors Building\, First Floor\, 2055 Second St\, Slidell\, LA\, 70459\, United States
CATEGORIES:Slidell City Auditorium
ATTACH;FMTTYPE=image/jpeg:http://myslidell.com/wp-content/uploads/2025/02/ozone-music-foundation.jpg
END:VEVENT
BEGIN:VEVENT
DTSTART;TZID=America/Chicago:20250424T180000
DTEND;TZID=America/Chicago:20250424T190000
DTSTAMP:20260420T032916
CREATED:20250407T181011Z
LAST-MODIFIED:20250408T144911Z
UID:22059-1745517600-1745521200@myslidell.com
SUMMARY:Keep Slidell Beautiful Board Meeting
DESCRIPTION:The Keep Slidell Beautiful board meeting will be held on Thursday\, April 24th at 6 pm in the City Hall Meeting Room (2055 Second Street). This meeting is open to the public.
URL:http://myslidell.com/event/keep-slidell-beautiful-board-meeting/
LOCATION:City Hall Meeting Room\, Mayors Building\, First Floor\, 2055 Second St\, Slidell\, LA\, 70459\, United States
CATEGORIES:Slidell City Auditorium
ATTACH;FMTTYPE=image/jpeg:http://myslidell.com/wp-content/uploads/2025/04/KSB-Logo-resize2.jpg
END:VEVENT
END:VCALENDAR